Workbook

Sheet 使い方
A1: 工事の工程表テンプレート（無料・Lucky Field）
A3: 1. 「工程表」シートに、作業・着手予定日・押さえに必要な日数（営業日）を入れます。
A4: 2. 手配の締切日は自動で出ます（着手予定日から、土日と「祝日」シートの日を飛ばして営業日でさかのぼります）。
A5: 3. 作業が終わったら完了日を入れます。遅れ日数は自動で出ます（完了日が空なら今日との差）。
A6: 4. 手配の締切が今日から3日以内の行に色が付きます。朝いちばんに見るのは、この色の行です。
A8: 「祝日」シートのA列に、休みの日（祝日・会社の休み）を入れておくと、締切の計算で飛ばします。空でも動きます。
A9: 日付が「46294」のような数字で出たら、セルを右クリック →「セルの書式設定」→「日付」を選んでください。
A10: 例の行は消して使ってください。
A12: 考え方の解説：https://lucky-field.jp/blog/construction-schedule-excel/
A13: このエクセルで回らなくなったら：https://lucky-field.jp/ai-shindan/
A14: ※ 自由に使って構いません。動作の保証はしていません。

Sheet 工程表
A1: 作業 | B1: 着手予定日 | C1: 押さえ日数（営業日） | D1: 手配の締切 | E1: 完了日 | F1: 遅れ日数
A2: （例）基礎 | B2: 46301 | C2: 5 | D2: =IF(OR(B2="",C2=""),"",WORKDAY(B2,-C2,祝日!$A$2:$A$200)) | E2: 46301 | F2: =IF(B2="","",IF(E2="",IF(TODAY()>B2,TODAY()-B2,0),E2-B2))
A3: （例）建方 | B3: 46310 | C3: 10 | D3: =IF(OR(B3="",C3=""),"",WORKDAY(B3,-C3,祝日!$A$2:$A$200)) | F3: =IF(B3="","",IF(E3="",IF(TODAY()>B3,TODAY()-B3,0),E3-B3))
A4: （例）内装 | B4: 46322 | C4: 7 | D4: =IF(OR(B4="",C4=""),"",WORKDAY(B4,-C4,祝日!$A$2:$A$200)) | E4: 46325 | F4: =IF(B4="","",IF(E4="",IF(TODAY()>B4,TODAY()-B4,0),E4-B4))
D5: =IF(OR(B5="",C5=""),"",WORKDAY(B5,-C5,祝日!$A$2:$A$200)) | F5: =IF(B5="","",IF(E5="",IF(TODAY()>B5,TODAY()-B5,0),E5-B5))
D6: =IF(OR(B6="",C6=""),"",WORKDAY(B6,-C6,祝日!$A$2:$A$200)) | F6: =IF(B6="","",IF(E6="",IF(TODAY()>B6,TODAY()-B6,0),E6-B6))
D7: =IF(OR(B7="",C7=""),"",WORKDAY(B7,-C7,祝日!$A$2:$A$200)) | F7: =IF(B7="","",IF(E7="",IF(TODAY()>B7,TODAY()-B7,0),E7-B7))
D8: =IF(OR(B8="",C8=""),"",WORKDAY(B8,-C8,祝日!$A$2:$A$200)) | F8: =IF(B8="","",IF(E8="",IF(TODAY()>B8,TODAY()-B8,0),E8-B8))
D9: =IF(OR(B9="",C9=""),"",WORKDAY(B9,-C9,祝日!$A$2:$A$200)) | F9: =IF(B9="","",IF(E9="",IF(TODAY()>B9,TODAY()-B9,0),E9-B9))
D10: =IF(OR(B10="",C10=""),"",WORKDAY(B10,-C10,祝日!$A$2:$A$200)) | F10: =IF(B10="","",IF(E10="",IF(TODAY()>B10,TODAY()-B10,0),E10-B10))
D11: =IF(OR(B11="",C11=""),"",WORKDAY(B11,-C11,祝日!$A$2:$A$200)) | F11: =IF(B11="","",IF(E11="",IF(TODAY()>B11,TODAY()-B11,0),E11-B11))
D12: =IF(OR(B12="",C12=""),"",WORKDAY(B12,-C12,祝日!$A$2:$A$200)) | F12: =IF(B12="","",IF(E12="",IF(TODAY()>B12,TODAY()-B12,0),E12-B12))
D13: =IF(OR(B13="",C13=""),"",WORKDAY(B13,-C13,祝日!$A$2:$A$200)) | F13: =IF(B13="","",IF(E13="",IF(TODAY()>B13,TODAY()-B13,0),E13-B13))
D14: =IF(OR(B14="",C14=""),"",WORKDAY(B14,-C14,祝日!$A$2:$A$200)) | F14: =IF(B14="","",IF(E14="",IF(TODAY()>B14,TODAY()-B14,0),E14-B14))
D15: =IF(OR(B15="",C15=""),"",WORKDAY(B15,-C15,祝日!$A$2:$A$200)) | F15: =IF(B15="","",IF(E15="",IF(TODAY()>B15,TODAY()-B15,0),E15-B15))
D16: =IF(OR(B16="",C16=""),"",WORKDAY(B16,-C16,祝日!$A$2:$A$200)) | F16: =IF(B16="","",IF(E16="",IF(TODAY()>B16,TODAY()-B16,0),E16-B16))
... D201: =IF(OR(B201="",C201=""),"",WORKDAY(B201,-C201,祝日!$A$2:$A$200)) | F201: =IF(B201="","",IF(E201="",IF(TODAY()>B201,TODAY()-B201,0),E201-B201))

Sheet 祝日
A1: 休みの日（祝日・会社の休み）
