Workbook

Sheet 使い方
A1: 見積の単価表テンプレート（無料・Lucky Field）
A3: 1. 「単価表」シートに、品番・品名・単価・原価を1行に1品目ずつ入れます。品番は全角・半角やハイフンの有無をそろえてください。
A4: 2. 「見積書」シートに品番と数量を入れると、品名・単価・金額・原価・粗利額が自動で入ります。
A5: 3. 値引きを求められたら、「値引き額」に金額を入れます。値引き後に残る粗利額が出ます。
A7: 原価と粗利額の列（灰色）は客先に見せない列です。印刷範囲は、品番〜金額の列だけにしてあります。
A8: 例の行は消して使ってください。
A10: 考え方の解説：https://lucky-field.jp/blog/quote-system-diy-excel/
A11: このエクセルで回らなくなったら：https://lucky-field.jp/koujou-ai-katsuyo/
A12: ※ 自由に使って構いません。動作の保証はしていません。

Sheet 単価表
A1: 品番 | B1: 品名 | C1: 単価 | D1: 原価
A2: K-100 | B2: （例）取付金具 A | C2: 1200 | D2: 840
A3: K-200 | B3: （例）取付金具 B | C3: 1800 | D3: 1190

Sheet 見積書
A1: 品番 | B1: 品名 | C1: 数量 | D1: 単価 | E1: 金額 | F1: 原価（社内） | G1: 粗利額（社内）
A2: K-100 | B2: =IF($A2="","",IFERROR(VLOOKUP($A2,単価表!$A$2:$D$501,2,FALSE),"品番なし")) | C2: 10 | D2: =IF($A2="","",IFERROR(VLOOKUP($A2,単価表!$A$2:$D$501,3,FALSE),"")) | E2: =IF(OR(C2="",D2=""),"",C2*D2) | F2: =IF($A2="","",IFERROR(VLOOKUP($A2,単価表!$A$2:$D$501,4,FALSE),"")) | G2: =IF(OR(C2="",D2="",F2=""),"",(D2-F2)*C2)
A3: K-200 | B3: =IF($A3="","",IFERROR(VLOOKUP($A3,単価表!$A$2:$D$501,2,FALSE),"品番なし")) | C3: 5 | D3: =IF($A3="","",IFERROR(VLOOKUP($A3,単価表!$A$2:$D$501,3,FALSE),"")) | E3: =IF(OR(C3="",D3=""),"",C3*D3) | F3: =IF($A3="","",IFERROR(VLOOKUP($A3,単価表!$A$2:$D$501,4,FALSE),"")) | G3: =IF(OR(C3="",D3="",F3=""),"",(D3-F3)*C3)
B4: =IF($A4="","",IFERROR(VLOOKUP($A4,単価表!$A$2:$D$501,2,FALSE),"品番なし")) | D4: =IF($A4="","",IFERROR(VLOOKUP($A4,単価表!$A$2:$D$501,3,FALSE),"")) | E4: =IF(OR(C4="",D4=""),"",C4*D4) | F4: =IF($A4="","",IFERROR(VLOOKUP($A4,単価表!$A$2:$D$501,4,FALSE),"")) | G4: =IF(OR(C4="",D4="",F4=""),"",(D4-F4)*C4)
B5: =IF($A5="","",IFERROR(VLOOKUP($A5,単価表!$A$2:$D$501,2,FALSE),"品番なし")) | D5: =IF($A5="","",IFERROR(VLOOKUP($A5,単価表!$A$2:$D$501,3,FALSE),"")) | E5: =IF(OR(C5="",D5=""),"",C5*D5) | F5: =IF($A5="","",IFERROR(VLOOKUP($A5,単価表!$A$2:$D$501,4,FALSE),"")) | G5: =IF(OR(C5="",D5="",F5=""),"",(D5-F5)*C5)
B6: =IF($A6="","",IFERROR(VLOOKUP($A6,単価表!$A$2:$D$501,2,FALSE),"品番なし")) | D6: =IF($A6="","",IFERROR(VLOOKUP($A6,単価表!$A$2:$D$501,3,FALSE),"")) | E6: =IF(OR(C6="",D6=""),"",C6*D6) | F6: =IF($A6="","",IFERROR(VLOOKUP($A6,単価表!$A$2:$D$501,4,FALSE),"")) | G6: =IF(OR(C6="",D6="",F6=""),"",(D6-F6)*C6)
B7: =IF($A7="","",IFERROR(VLOOKUP($A7,単価表!$A$2:$D$501,2,FALSE),"品番なし")) | D7: =IF($A7="","",IFERROR(VLOOKUP($A7,単価表!$A$2:$D$501,3,FALSE),"")) | E7: =IF(OR(C7="",D7=""),"",C7*D7) | F7: =IF($A7="","",IFERROR(VLOOKUP($A7,単価表!$A$2:$D$501,4,FALSE),"")) | G7: =IF(OR(C7="",D7="",F7=""),"",(D7-F7)*C7)
B8: =IF($A8="","",IFERROR(VLOOKUP($A8,単価表!$A$2:$D$501,2,FALSE),"品番なし")) | D8: =IF($A8="","",IFERROR(VLOOKUP($A8,単価表!$A$2:$D$501,3,FALSE),"")) | E8: =IF(OR(C8="",D8=""),"",C8*D8) | F8: =IF($A8="","",IFERROR(VLOOKUP($A8,単価表!$A$2:$D$501,4,FALSE),"")) | G8: =IF(OR(C8="",D8="",F8=""),"",(D8-F8)*C8)
B9: =IF($A9="","",IFERROR(VLOOKUP($A9,単価表!$A$2:$D$501,2,FALSE),"品番なし")) | D9: =IF($A9="","",IFERROR(VLOOKUP($A9,単価表!$A$2:$D$501,3,FALSE),"")) | E9: =IF(OR(C9="",D9=""),"",C9*D9) | F9: =IF($A9="","",IFERROR(VLOOKUP($A9,単価表!$A$2:$D$501,4,FALSE),"")) | G9: =IF(OR(C9="",D9="",F9=""),"",(D9-F9)*C9)
B10: =IF($A10="","",IFERROR(VLOOKUP($A10,単価表!$A$2:$D$501,2,FALSE),"品番なし")) | D10: =IF($A10="","",IFERROR(VLOOKUP($A10,単価表!$A$2:$D$501,3,FALSE),"")) | E10: =IF(OR(C10="",D10=""),"",C10*D10) | F10: =IF($A10="","",IFERROR(VLOOKUP($A10,単価表!$A$2:$D$501,4,FALSE),"")) | G10: =IF(OR(C10="",D10="",F10=""),"",(D10-F10)*C10)
B11: =IF($A11="","",IFERROR(VLOOKUP($A11,単価表!$A$2:$D$501,2,FALSE),"品番なし")) | D11: =IF($A11="","",IFERROR(VLOOKUP($A11,単価表!$A$2:$D$501,3,FALSE),"")) | E11: =IF(OR(C11="",D11=""),"",C11*D11) | F11: =IF($A11="","",IFERROR(VLOOKUP($A11,単価表!$A$2:$D$501,4,FALSE),"")) | G11: =IF(OR(C11="",D11="",F11=""),"",(D11-F11)*C11)
B12: =IF($A12="","",IFERROR(VLOOKUP($A12,単価表!$A$2:$D$501,2,FALSE),"品番なし")) | D12: =IF($A12="","",IFERROR(VLOOKUP($A12,単価表!$A$2:$D$501,3,FALSE),"")) | E12: =IF(OR(C12="",D12=""),"",C12*D12) | F12: =IF($A12="","",IFERROR(VLOOKUP($A12,単価表!$A$2:$D$501,4,FALSE),"")) | G12: =IF(OR(C12="",D12="",F12=""),"",(D12-F12)*C12)
B13: =IF($A13="","",IFERROR(VLOOKUP($A13,単価表!$A$2:$D$501,2,FALSE),"品番なし")) | D13: =IF($A13="","",IFERROR(VLOOKUP($A13,単価表!$A$2:$D$501,3,FALSE),"")) | E13: =IF(OR(C13="",D13=""),"",C13*D13) | F13: =IF($A13="","",IFERROR(VLOOKUP($A13,単価表!$A$2:$D$501,4,FALSE),"")) | G13: =IF(OR(C13="",D13="",F13=""),"",(D13-F13)*C13)
B14: =IF($A14="","",IFERROR(VLOOKUP($A14,単価表!$A$2:$D$501,2,FALSE),"品番なし")) | D14: =IF($A14="","",IFERROR(VLOOKUP($A14,単価表!$A$2:$D$501,3,FALSE),"")) | E14: =IF(OR(C14="",D14=""),"",C14*D14) | F14: =IF($A14="","",IFERROR(VLOOKUP($A14,単価表!$A$2:$D$501,4,FALSE),"")) | G14: =IF(OR(C14="",D14="",F14=""),"",(D14-F14)*C14)
B15: =IF($A15="","",IFERROR(VLOOKUP($A15,単価表!$A$2:$D$501,2,FALSE),"品番なし")) | D15: =IF($A15="","",IFERROR(VLOOKUP($A15,単価表!$A$2:$D$501,3,FALSE),"")) | E15: =IF(OR(C15="",D15=""),"",C15*D15) | F15: =IF($A15="","",IFERROR(VLOOKUP($A15,単価表!$A$2:$D$501,4,FALSE),"")) | G15: =IF(OR(C15="",D15="",F15=""),"",(D15-F15)*C15)
... B50: =IF($A50="","",IFERROR(VLOOKUP($A50,単価表!$A$2:$D$501,2,FALSE),"品番なし")) | D50: =IF($A50="","",IFERROR(VLOOKUP($A50,単価表!$A$2:$D$501,3,FALSE),"")) | E50: =IF(OR(C50="",D50=""),"",C50*D50) | F50: =IF($A50="","",IFERROR(VLOOKUP($A50,単価表!$A$2:$D$501,4,FALSE),"")) | G50: =IF(OR(C50="",D50="",F50=""),"",(D50-F50)*C50)
D52: 合計金額 | E52: =SUM(E2:E50) | F52: 粗利額の合計 | G52: =SUM(G2:G50)
F53: 値引き額 | G53: 0
F54: 値引き後の粗利額 | G54: =G52-G53
