Workbook

Sheet 使い方
A1: 売上分析テンプレート（無料・Lucky Field）
A3: 1. 「売上明細」シートに、日付・お客さん・商品・金額を1件1行で貼ります（会計ソフトやレジから書き出したものをそのまま貼れます）。
A4: 2. 「商品別」「お客さん別」シートのA列に、商品名・お客さん名を書きます。合計・全体に占める割合・順位が自動で出ます。
A5: 3. 「月別」シートは、A列に月（例：2026/09）を書くと、その月の合計が出ます。
A6: 4. 各シートを、売上の大きい順に並べ替えると（データ →「降順」）、主力と、手間のわりに稼いでいないものが見えます。
A8: 一部の商品・お客さんに売上が偏りすぎていないか、昔たくさん買ってくれたのに最近ゼロのお客さんがいないか、を見てください。
A9: 例の数字は消して使ってください。
A11: 考え方の解説：https://lucky-field.jp/blog/excel-sales-analysis/
A12: ※ 自由に使って構いません。動作の保証はしていません。

Sheet 売上明細
A1: 日付 | B1: お客さん | C1: 商品 | D1: 金額 | E1: 月（自動）
A2: 46237 | B2: （例）A社 | C2: （例）商品X | D2: 120000 | E2: =IF(A2="","",TEXT(A2,"yyyy/mm"))
A3: 46252 | B3: （例）B社 | C3: （例）商品Y | D3: 45000 | E3: =IF(A3="","",TEXT(A3,"yyyy/mm"))
A4: 46259 | B4: （例）A社 | C4: （例）商品Z | D4: 18000 | E4: =IF(A4="","",TEXT(A4,"yyyy/mm"))
A5: 46267 | B5: （例）A社 | C5: （例）商品X | D5: 130000 | E5: =IF(A5="","",TEXT(A5,"yyyy/mm"))
A6: 46275 | B6: （例）C社 | C6: （例）商品Y | D6: 52000 | E6: =IF(A6="","",TEXT(A6,"yyyy/mm"))
A7: 46293 | B7: （例）B社 | C7: （例）商品X | D7: 60000 | E7: =IF(A7="","",TEXT(A7,"yyyy/mm"))
E8: =IF(A8="","",TEXT(A8,"yyyy/mm"))
E9: =IF(A9="","",TEXT(A9,"yyyy/mm"))
E10: =IF(A10="","",TEXT(A10,"yyyy/mm"))
E11: =IF(A11="","",TEXT(A11,"yyyy/mm"))
E12: =IF(A12="","",TEXT(A12,"yyyy/mm"))
E13: =IF(A13="","",TEXT(A13,"yyyy/mm"))
E14: =IF(A14="","",TEXT(A14,"yyyy/mm"))
E15: =IF(A15="","",TEXT(A15,"yyyy/mm"))
E16: =IF(A16="","",TEXT(A16,"yyyy/mm"))
E17: =IF(A17="","",TEXT(A17,"yyyy/mm"))
E18: =IF(A18="","",TEXT(A18,"yyyy/mm"))
E19: =IF(A19="","",TEXT(A19,"yyyy/mm"))
... E5001: =IF(A5001="","",TEXT(A5001,"yyyy/mm"))

Sheet 商品別
A1: 商品 | B1: 売上合計 | C1: 全体に占める割合 | D1: 順位
A2: （例）商品X | B2: =IF(A2="","",SUMIFS(売上明細!$D$2:$D$5001,売上明細!$C$2:$C$5001,A2)) | C2: =IF(OR(A2="",SUM(売上明細!$D$2:$D$5001)=0),"",B2/SUM(売上明細!$D$2:$D$5001)) | D2: =IF(A2="","",RANK(B2,$B$2:$B$101,0))
A3: （例）商品Y | B3: =IF(A3="","",SUMIFS(売上明細!$D$2:$D$5001,売上明細!$C$2:$C$5001,A3)) | C3: =IF(OR(A3="",SUM(売上明細!$D$2:$D$5001)=0),"",B3/SUM(売上明細!$D$2:$D$5001)) | D3: =IF(A3="","",RANK(B3,$B$2:$B$101,0))
A4: （例）商品Z | B4: =IF(A4="","",SUMIFS(売上明細!$D$2:$D$5001,売上明細!$C$2:$C$5001,A4)) | C4: =IF(OR(A4="",SUM(売上明細!$D$2:$D$5001)=0),"",B4/SUM(売上明細!$D$2:$D$5001)) | D4: =IF(A4="","",RANK(B4,$B$2:$B$101,0))
B5: =IF(A5="","",SUMIFS(売上明細!$D$2:$D$5001,売上明細!$C$2:$C$5001,A5)) | C5: =IF(OR(A5="",SUM(売上明細!$D$2:$D$5001)=0),"",B5/SUM(売上明細!$D$2:$D$5001)) | D5: =IF(A5="","",RANK(B5,$B$2:$B$101,0))
B6: =IF(A6="","",SUMIFS(売上明細!$D$2:$D$5001,売上明細!$C$2:$C$5001,A6)) | C6: =IF(OR(A6="",SUM(売上明細!$D$2:$D$5001)=0),"",B6/SUM(売上明細!$D$2:$D$5001)) | D6: =IF(A6="","",RANK(B6,$B$2:$B$101,0))
B7: =IF(A7="","",SUMIFS(売上明細!$D$2:$D$5001,売上明細!$C$2:$C$5001,A7)) | C7: =IF(OR(A7="",SUM(売上明細!$D$2:$D$5001)=0),"",B7/SUM(売上明細!$D$2:$D$5001)) | D7: =IF(A7="","",RANK(B7,$B$2:$B$101,0))
B8: =IF(A8="","",SUMIFS(売上明細!$D$2:$D$5001,売上明細!$C$2:$C$5001,A8)) | C8: =IF(OR(A8="",SUM(売上明細!$D$2:$D$5001)=0),"",B8/SUM(売上明細!$D$2:$D$5001)) | D8: =IF(A8="","",RANK(B8,$B$2:$B$101,0))
B9: =IF(A9="","",SUMIFS(売上明細!$D$2:$D$5001,売上明細!$C$2:$C$5001,A9)) | C9: =IF(OR(A9="",SUM(売上明細!$D$2:$D$5001)=0),"",B9/SUM(売上明細!$D$2:$D$5001)) | D9: =IF(A9="","",RANK(B9,$B$2:$B$101,0))
B10: =IF(A10="","",SUMIFS(売上明細!$D$2:$D$5001,売上明細!$C$2:$C$5001,A10)) | C10: =IF(OR(A10="",SUM(売上明細!$D$2:$D$5001)=0),"",B10/SUM(売上明細!$D$2:$D$5001)) | D10: =IF(A10="","",RANK(B10,$B$2:$B$101,0))
B11: =IF(A11="","",SUMIFS(売上明細!$D$2:$D$5001,売上明細!$C$2:$C$5001,A11)) | C11: =IF(OR(A11="",SUM(売上明細!$D$2:$D$5001)=0),"",B11/SUM(売上明細!$D$2:$D$5001)) | D11: =IF(A11="","",RANK(B11,$B$2:$B$101,0))
B12: =IF(A12="","",SUMIFS(売上明細!$D$2:$D$5001,売上明細!$C$2:$C$5001,A12)) | C12: =IF(OR(A12="",SUM(売上明細!$D$2:$D$5001)=0),"",B12/SUM(売上明細!$D$2:$D$5001)) | D12: =IF(A12="","",RANK(B12,$B$2:$B$101,0))
B13: =IF(A13="","",SUMIFS(売上明細!$D$2:$D$5001,売上明細!$C$2:$C$5001,A13)) | C13: =IF(OR(A13="",SUM(売上明細!$D$2:$D$5001)=0),"",B13/SUM(売上明細!$D$2:$D$5001)) | D13: =IF(A13="","",RANK(B13,$B$2:$B$101,0))
B14: =IF(A14="","",SUMIFS(売上明細!$D$2:$D$5001,売上明細!$C$2:$C$5001,A14)) | C14: =IF(OR(A14="",SUM(売上明細!$D$2:$D$5001)=0),"",B14/SUM(売上明細!$D$2:$D$5001)) | D14: =IF(A14="","",RANK(B14,$B$2:$B$101,0))
B15: =IF(A15="","",SUMIFS(売上明細!$D$2:$D$5001,売上明細!$C$2:$C$5001,A15)) | C15: =IF(OR(A15="",SUM(売上明細!$D$2:$D$5001)=0),"",B15/SUM(売上明細!$D$2:$D$5001)) | D15: =IF(A15="","",RANK(B15,$B$2:$B$101,0))
B16: =IF(A16="","",SUMIFS(売上明細!$D$2:$D$5001,売上明細!$C$2:$C$5001,A16)) | C16: =IF(OR(A16="",SUM(売上明細!$D$2:$D$5001)=0),"",B16/SUM(売上明細!$D$2:$D$5001)) | D16: =IF(A16="","",RANK(B16,$B$2:$B$101,0))
... B101: =IF(A101="","",SUMIFS(売上明細!$D$2:$D$5001,売上明細!$C$2:$C$5001,A101)) | C101: =IF(OR(A101="",SUM(売上明細!$D$2:$D$5001)=0),"",B101/SUM(売上明細!$D$2:$D$5001)) | D101: =IF(A101="","",RANK(B101,$B$2:$B$101,0))

Sheet お客さん別
A1: お客さん | B1: 売上合計 | C1: 全体に占める割合 | D1: 順位
A2: （例）A社 | B2: =IF(A2="","",SUMIFS(売上明細!$D$2:$D$5001,売上明細!$B$2:$B$5001,A2)) | C2: =IF(OR(A2="",SUM(売上明細!$D$2:$D$5001)=0),"",B2/SUM(売上明細!$D$2:$D$5001)) | D2: =IF(A2="","",RANK(B2,$B$2:$B$101,0))
A3: （例）B社 | B3: =IF(A3="","",SUMIFS(売上明細!$D$2:$D$5001,売上明細!$B$2:$B$5001,A3)) | C3: =IF(OR(A3="",SUM(売上明細!$D$2:$D$5001)=0),"",B3/SUM(売上明細!$D$2:$D$5001)) | D3: =IF(A3="","",RANK(B3,$B$2:$B$101,0))
A4: （例）C社 | B4: =IF(A4="","",SUMIFS(売上明細!$D$2:$D$5001,売上明細!$B$2:$B$5001,A4)) | C4: =IF(OR(A4="",SUM(売上明細!$D$2:$D$5001)=0),"",B4/SUM(売上明細!$D$2:$D$5001)) | D4: =IF(A4="","",RANK(B4,$B$2:$B$101,0))
B5: =IF(A5="","",SUMIFS(売上明細!$D$2:$D$5001,売上明細!$B$2:$B$5001,A5)) | C5: =IF(OR(A5="",SUM(売上明細!$D$2:$D$5001)=0),"",B5/SUM(売上明細!$D$2:$D$5001)) | D5: =IF(A5="","",RANK(B5,$B$2:$B$101,0))
B6: =IF(A6="","",SUMIFS(売上明細!$D$2:$D$5001,売上明細!$B$2:$B$5001,A6)) | C6: =IF(OR(A6="",SUM(売上明細!$D$2:$D$5001)=0),"",B6/SUM(売上明細!$D$2:$D$5001)) | D6: =IF(A6="","",RANK(B6,$B$2:$B$101,0))
B7: =IF(A7="","",SUMIFS(売上明細!$D$2:$D$5001,売上明細!$B$2:$B$5001,A7)) | C7: =IF(OR(A7="",SUM(売上明細!$D$2:$D$5001)=0),"",B7/SUM(売上明細!$D$2:$D$5001)) | D7: =IF(A7="","",RANK(B7,$B$2:$B$101,0))
B8: =IF(A8="","",SUMIFS(売上明細!$D$2:$D$5001,売上明細!$B$2:$B$5001,A8)) | C8: =IF(OR(A8="",SUM(売上明細!$D$2:$D$5001)=0),"",B8/SUM(売上明細!$D$2:$D$5001)) | D8: =IF(A8="","",RANK(B8,$B$2:$B$101,0))
B9: =IF(A9="","",SUMIFS(売上明細!$D$2:$D$5001,売上明細!$B$2:$B$5001,A9)) | C9: =IF(OR(A9="",SUM(売上明細!$D$2:$D$5001)=0),"",B9/SUM(売上明細!$D$2:$D$5001)) | D9: =IF(A9="","",RANK(B9,$B$2:$B$101,0))
B10: =IF(A10="","",SUMIFS(売上明細!$D$2:$D$5001,売上明細!$B$2:$B$5001,A10)) | C10: =IF(OR(A10="",SUM(売上明細!$D$2:$D$5001)=0),"",B10/SUM(売上明細!$D$2:$D$5001)) | D10: =IF(A10="","",RANK(B10,$B$2:$B$101,0))
B11: =IF(A11="","",SUMIFS(売上明細!$D$2:$D$5001,売上明細!$B$2:$B$5001,A11)) | C11: =IF(OR(A11="",SUM(売上明細!$D$2:$D$5001)=0),"",B11/SUM(売上明細!$D$2:$D$5001)) | D11: =IF(A11="","",RANK(B11,$B$2:$B$101,0))
B12: =IF(A12="","",SUMIFS(売上明細!$D$2:$D$5001,売上明細!$B$2:$B$5001,A12)) | C12: =IF(OR(A12="",SUM(売上明細!$D$2:$D$5001)=0),"",B12/SUM(売上明細!$D$2:$D$5001)) | D12: =IF(A12="","",RANK(B12,$B$2:$B$101,0))
B13: =IF(A13="","",SUMIFS(売上明細!$D$2:$D$5001,売上明細!$B$2:$B$5001,A13)) | C13: =IF(OR(A13="",SUM(売上明細!$D$2:$D$5001)=0),"",B13/SUM(売上明細!$D$2:$D$5001)) | D13: =IF(A13="","",RANK(B13,$B$2:$B$101,0))
B14: =IF(A14="","",SUMIFS(売上明細!$D$2:$D$5001,売上明細!$B$2:$B$5001,A14)) | C14: =IF(OR(A14="",SUM(売上明細!$D$2:$D$5001)=0),"",B14/SUM(売上明細!$D$2:$D$5001)) | D14: =IF(A14="","",RANK(B14,$B$2:$B$101,0))
B15: =IF(A15="","",SUMIFS(売上明細!$D$2:$D$5001,売上明細!$B$2:$B$5001,A15)) | C15: =IF(OR(A15="",SUM(売上明細!$D$2:$D$5001)=0),"",B15/SUM(売上明細!$D$2:$D$5001)) | D15: =IF(A15="","",RANK(B15,$B$2:$B$101,0))
B16: =IF(A16="","",SUMIFS(売上明細!$D$2:$D$5001,売上明細!$B$2:$B$5001,A16)) | C16: =IF(OR(A16="",SUM(売上明細!$D$2:$D$5001)=0),"",B16/SUM(売上明細!$D$2:$D$5001)) | D16: =IF(A16="","",RANK(B16,$B$2:$B$101,0))
... B101: =IF(A101="","",SUMIFS(売上明細!$D$2:$D$5001,売上明細!$B$2:$B$5001,A101)) | C101: =IF(OR(A101="",SUM(売上明細!$D$2:$D$5001)=0),"",B101/SUM(売上明細!$D$2:$D$5001)) | D101: =IF(A101="","",RANK(B101,$B$2:$B$101,0))

Sheet 月別
A1: 月（yyyy/mm） | B1: 売上合計 | C1: 全体に占める割合 | D1: 順位
A2: 2026/08 | B2: =IF(A2="","",SUMIFS(売上明細!$D$2:$D$5001,売上明細!$E$2:$E$5001,A2)) | C2: =IF(OR(A2="",SUM(売上明細!$D$2:$D$5001)=0),"",B2/SUM(売上明細!$D$2:$D$5001)) | D2: =IF(A2="","",RANK(B2,$B$2:$B$101,0))
A3: 2026/09 | B3: =IF(A3="","",SUMIFS(売上明細!$D$2:$D$5001,売上明細!$E$2:$E$5001,A3)) | C3: =IF(OR(A3="",SUM(売上明細!$D$2:$D$5001)=0),"",B3/SUM(売上明細!$D$2:$D$5001)) | D3: =IF(A3="","",RANK(B3,$B$2:$B$101,0))
B4: =IF(A4="","",SUMIFS(売上明細!$D$2:$D$5001,売上明細!$E$2:$E$5001,A4)) | C4: =IF(OR(A4="",SUM(売上明細!$D$2:$D$5001)=0),"",B4/SUM(売上明細!$D$2:$D$5001)) | D4: =IF(A4="","",RANK(B4,$B$2:$B$101,0))
B5: =IF(A5="","",SUMIFS(売上明細!$D$2:$D$5001,売上明細!$E$2:$E$5001,A5)) | C5: =IF(OR(A5="",SUM(売上明細!$D$2:$D$5001)=0),"",B5/SUM(売上明細!$D$2:$D$5001)) | D5: =IF(A5="","",RANK(B5,$B$2:$B$101,0))
B6: =IF(A6="","",SUMIFS(売上明細!$D$2:$D$5001,売上明細!$E$2:$E$5001,A6)) | C6: =IF(OR(A6="",SUM(売上明細!$D$2:$D$5001)=0),"",B6/SUM(売上明細!$D$2:$D$5001)) | D6: =IF(A6="","",RANK(B6,$B$2:$B$101,0))
B7: =IF(A7="","",SUMIFS(売上明細!$D$2:$D$5001,売上明細!$E$2:$E$5001,A7)) | C7: =IF(OR(A7="",SUM(売上明細!$D$2:$D$5001)=0),"",B7/SUM(売上明細!$D$2:$D$5001)) | D7: =IF(A7="","",RANK(B7,$B$2:$B$101,0))
B8: =IF(A8="","",SUMIFS(売上明細!$D$2:$D$5001,売上明細!$E$2:$E$5001,A8)) | C8: =IF(OR(A8="",SUM(売上明細!$D$2:$D$5001)=0),"",B8/SUM(売上明細!$D$2:$D$5001)) | D8: =IF(A8="","",RANK(B8,$B$2:$B$101,0))
B9: =IF(A9="","",SUMIFS(売上明細!$D$2:$D$5001,売上明細!$E$2:$E$5001,A9)) | C9: =IF(OR(A9="",SUM(売上明細!$D$2:$D$5001)=0),"",B9/SUM(売上明細!$D$2:$D$5001)) | D9: =IF(A9="","",RANK(B9,$B$2:$B$101,0))
B10: =IF(A10="","",SUMIFS(売上明細!$D$2:$D$5001,売上明細!$E$2:$E$5001,A10)) | C10: =IF(OR(A10="",SUM(売上明細!$D$2:$D$5001)=0),"",B10/SUM(売上明細!$D$2:$D$5001)) | D10: =IF(A10="","",RANK(B10,$B$2:$B$101,0))
B11: =IF(A11="","",SUMIFS(売上明細!$D$2:$D$5001,売上明細!$E$2:$E$5001,A11)) | C11: =IF(OR(A11="",SUM(売上明細!$D$2:$D$5001)=0),"",B11/SUM(売上明細!$D$2:$D$5001)) | D11: =IF(A11="","",RANK(B11,$B$2:$B$101,0))
B12: =IF(A12="","",SUMIFS(売上明細!$D$2:$D$5001,売上明細!$E$2:$E$5001,A12)) | C12: =IF(OR(A12="",SUM(売上明細!$D$2:$D$5001)=0),"",B12/SUM(売上明細!$D$2:$D$5001)) | D12: =IF(A12="","",RANK(B12,$B$2:$B$101,0))
B13: =IF(A13="","",SUMIFS(売上明細!$D$2:$D$5001,売上明細!$E$2:$E$5001,A13)) | C13: =IF(OR(A13="",SUM(売上明細!$D$2:$D$5001)=0),"",B13/SUM(売上明細!$D$2:$D$5001)) | D13: =IF(A13="","",RANK(B13,$B$2:$B$101,0))
B14: =IF(A14="","",SUMIFS(売上明細!$D$2:$D$5001,売上明細!$E$2:$E$5001,A14)) | C14: =IF(OR(A14="",SUM(売上明細!$D$2:$D$5001)=0),"",B14/SUM(売上明細!$D$2:$D$5001)) | D14: =IF(A14="","",RANK(B14,$B$2:$B$101,0))
B15: =IF(A15="","",SUMIFS(売上明細!$D$2:$D$5001,売上明細!$E$2:$E$5001,A15)) | C15: =IF(OR(A15="",SUM(売上明細!$D$2:$D$5001)=0),"",B15/SUM(売上明細!$D$2:$D$5001)) | D15: =IF(A15="","",RANK(B15,$B$2:$B$101,0))
... B101: =IF(A101="","",SUMIFS(売上明細!$D$2:$D$5001,売上明細!$E$2:$E$5001,A101)) | C101: =IF(OR(A101="",SUM(売上明細!$D$2:$D$5001)=0),"",B101/SUM(売上明細!$D$2:$D$5001)) | D101: =IF(A101="","",RANK(B101,$B$2:$B$101,0))
