Workbook

Sheet 使い方
A1: 在庫管理表テンプレート（無料・Lucky Field）
A3: 1. 「品目」シートのA列に品目名、C列に下限（これを切ったら発注する数）を入れます。
A4: 2. 入出庫があるたびに、「履歴」シートに1行ずつ下に足します（日付・品目・区分・数量・メモ）。
A5: 3. 「品目」シートの「今の在庫」は自動で出ます。下限を切った品目だけ赤く塗られます。
A7: 在庫の数字は書き換えません。棚卸で数が合わなかった分は、区分「調整」の行として積みます（例：-5）。
A8: 品目と区分は、セルのプルダウンから選んでください。「ボルトM6」と「ボルト M6」は別の品目として数えられます。
A9: 例の行（ボルトM6）は消して使ってください。
A11: 考え方の解説：https://lucky-field.jp/blog/inventory-management-diy-excel/
A12: このエクセルで回らなくなったら：https://lucky-field.jp/koujou-ai-katsuyo/
A13: ※ 自由に使って構いません。動作の保証はしていません。

Sheet 品目
A1: 品目 | B1: 単位 | C1: 下限 | D1: 今の在庫 | E1: 状態
A2: ボルトM6 | B2: 個 | C2: 150 | D2: =IF(A2="","",SUMIFS(履歴!$D$2:$D$2001,履歴!$B$2:$B$2001,A2,履歴!$C$2:$C$2001,"入庫")-SUMIFS(履歴!$D$2:$D$2001,履歴!$B$2:$B$2001,A2,履歴!$C$2:$C$2001,"出庫")+SUMIFS(履歴!$D$2:$D$2001,履歴!$B$2:$B$2001,A2,履歴!$C$2:$C$2001,"調整")) | E2: =IF(OR(A2="",C2=""),"",IF(D2<C2,"下限割れ",""))
D3: =IF(A3="","",SUMIFS(履歴!$D$2:$D$2001,履歴!$B$2:$B$2001,A3,履歴!$C$2:$C$2001,"入庫")-SUMIFS(履歴!$D$2:$D$2001,履歴!$B$2:$B$2001,A3,履歴!$C$2:$C$2001,"出庫")+SUMIFS(履歴!$D$2:$D$2001,履歴!$B$2:$B$2001,A3,履歴!$C$2:$C$2001,"調整")) | E3: =IF(OR(A3="",C3=""),"",IF(D3<C3,"下限割れ",""))
D4: =IF(A4="","",SUMIFS(履歴!$D$2:$D$2001,履歴!$B$2:$B$2001,A4,履歴!$C$2:$C$2001,"入庫")-SUMIFS(履歴!$D$2:$D$2001,履歴!$B$2:$B$2001,A4,履歴!$C$2:$C$2001,"出庫")+SUMIFS(履歴!$D$2:$D$2001,履歴!$B$2:$B$2001,A4,履歴!$C$2:$C$2001,"調整")) | E4: =IF(OR(A4="",C4=""),"",IF(D4<C4,"下限割れ",""))
D5: =IF(A5="","",SUMIFS(履歴!$D$2:$D$2001,履歴!$B$2:$B$2001,A5,履歴!$C$2:$C$2001,"入庫")-SUMIFS(履歴!$D$2:$D$2001,履歴!$B$2:$B$2001,A5,履歴!$C$2:$C$2001,"出庫")+SUMIFS(履歴!$D$2:$D$2001,履歴!$B$2:$B$2001,A5,履歴!$C$2:$C$2001,"調整")) | E5: =IF(OR(A5="",C5=""),"",IF(D5<C5,"下限割れ",""))
D6: =IF(A6="","",SUMIFS(履歴!$D$2:$D$2001,履歴!$B$2:$B$2001,A6,履歴!$C$2:$C$2001,"入庫")-SUMIFS(履歴!$D$2:$D$2001,履歴!$B$2:$B$2001,A6,履歴!$C$2:$C$2001,"出庫")+SUMIFS(履歴!$D$2:$D$2001,履歴!$B$2:$B$2001,A6,履歴!$C$2:$C$2001,"調整")) | E6: =IF(OR(A6="",C6=""),"",IF(D6<C6,"下限割れ",""))
D7: =IF(A7="","",SUMIFS(履歴!$D$2:$D$2001,履歴!$B$2:$B$2001,A7,履歴!$C$2:$C$2001,"入庫")-SUMIFS(履歴!$D$2:$D$2001,履歴!$B$2:$B$2001,A7,履歴!$C$2:$C$2001,"出庫")+SUMIFS(履歴!$D$2:$D$2001,履歴!$B$2:$B$2001,A7,履歴!$C$2:$C$2001,"調整")) | E7: =IF(OR(A7="",C7=""),"",IF(D7<C7,"下限割れ",""))
D8: =IF(A8="","",SUMIFS(履歴!$D$2:$D$2001,履歴!$B$2:$B$2001,A8,履歴!$C$2:$C$2001,"入庫")-SUMIFS(履歴!$D$2:$D$2001,履歴!$B$2:$B$2001,A8,履歴!$C$2:$C$2001,"出庫")+SUMIFS(履歴!$D$2:$D$2001,履歴!$B$2:$B$2001,A8,履歴!$C$2:$C$2001,"調整")) | E8: =IF(OR(A8="",C8=""),"",IF(D8<C8,"下限割れ",""))
D9: =IF(A9="","",SUMIFS(履歴!$D$2:$D$2001,履歴!$B$2:$B$2001,A9,履歴!$C$2:$C$2001,"入庫")-SUMIFS(履歴!$D$2:$D$2001,履歴!$B$2:$B$2001,A9,履歴!$C$2:$C$2001,"出庫")+SUMIFS(履歴!$D$2:$D$2001,履歴!$B$2:$B$2001,A9,履歴!$C$2:$C$2001,"調整")) | E9: =IF(OR(A9="",C9=""),"",IF(D9<C9,"下限割れ",""))
D10: =IF(A10="","",SUMIFS(履歴!$D$2:$D$2001,履歴!$B$2:$B$2001,A10,履歴!$C$2:$C$2001,"入庫")-SUMIFS(履歴!$D$2:$D$2001,履歴!$B$2:$B$2001,A10,履歴!$C$2:$C$2001,"出庫")+SUMIFS(履歴!$D$2:$D$2001,履歴!$B$2:$B$2001,A10,履歴!$C$2:$C$2001,"調整")) | E10: =IF(OR(A10="",C10=""),"",IF(D10<C10,"下限割れ",""))
D11: =IF(A11="","",SUMIFS(履歴!$D$2:$D$2001,履歴!$B$2:$B$2001,A11,履歴!$C$2:$C$2001,"入庫")-SUMIFS(履歴!$D$2:$D$2001,履歴!$B$2:$B$2001,A11,履歴!$C$2:$C$2001,"出庫")+SUMIFS(履歴!$D$2:$D$2001,履歴!$B$2:$B$2001,A11,履歴!$C$2:$C$2001,"調整")) | E11: =IF(OR(A11="",C11=""),"",IF(D11<C11,"下限割れ",""))
D12: =IF(A12="","",SUMIFS(履歴!$D$2:$D$2001,履歴!$B$2:$B$2001,A12,履歴!$C$2:$C$2001,"入庫")-SUMIFS(履歴!$D$2:$D$2001,履歴!$B$2:$B$2001,A12,履歴!$C$2:$C$2001,"出庫")+SUMIFS(履歴!$D$2:$D$2001,履歴!$B$2:$B$2001,A12,履歴!$C$2:$C$2001,"調整")) | E12: =IF(OR(A12="",C12=""),"",IF(D12<C12,"下限割れ",""))
D13: =IF(A13="","",SUMIFS(履歴!$D$2:$D$2001,履歴!$B$2:$B$2001,A13,履歴!$C$2:$C$2001,"入庫")-SUMIFS(履歴!$D$2:$D$2001,履歴!$B$2:$B$2001,A13,履歴!$C$2:$C$2001,"出庫")+SUMIFS(履歴!$D$2:$D$2001,履歴!$B$2:$B$2001,A13,履歴!$C$2:$C$2001,"調整")) | E13: =IF(OR(A13="",C13=""),"",IF(D13<C13,"下限割れ",""))
D14: =IF(A14="","",SUMIFS(履歴!$D$2:$D$2001,履歴!$B$2:$B$2001,A14,履歴!$C$2:$C$2001,"入庫")-SUMIFS(履歴!$D$2:$D$2001,履歴!$B$2:$B$2001,A14,履歴!$C$2:$C$2001,"出庫")+SUMIFS(履歴!$D$2:$D$2001,履歴!$B$2:$B$2001,A14,履歴!$C$2:$C$2001,"調整")) | E14: =IF(OR(A14="",C14=""),"",IF(D14<C14,"下限割れ",""))
... D101: =IF(A101="","",SUMIFS(履歴!$D$2:$D$2001,履歴!$B$2:$B$2001,A101,履歴!$C$2:$C$2001,"入庫")-SUMIFS(履歴!$D$2:$D$2001,履歴!$B$2:$B$2001,A101,履歴!$C$2:$C$2001,"出庫")+SUMIFS(履歴!$D$2:$D$2001,履歴!$B$2:$B$2001,A101,履歴!$C$2:$C$2001,"調整")) | E101: =IF(OR(A101="",C101=""),"",IF(D101<C101,"下限割れ",""))

Sheet 履歴
A1: 日付 | B1: 品目 | C1: 区分 | D1: 数量 | E1: メモ
A2: 46266 | B2: ボルトM6 | C2: 入庫 | D2: 200
A3: 46268 | B3: ボルトM6 | C3: 出庫 | D3: 30
A4: 46270 | B4: ボルトM6 | C4: 出庫 | D4: 45
A5: 46295 | B5: ボルトM6 | C5: 調整 | D5: -5 | E5: 棚卸で5個少なかった
